Workbook
Name Actual_Group_Cash_Flow_Model_CY: 'How to use the Kiwi Park Model'!$C$72
Name Authority: [1]Inputs!$F$2
Name Authority: #REF!
Name Authority: 'Sch Parent Inputs'!$F$2
Name CY_Roll: 'Group Inputs'!#REF!
Name Donations_Scheme: #REF!
Name Donations_Scheme: 'Sch Parent Inputs'!$D$3
Name FY: [1]Inputs!$B$3
Name FY: #REF!
Name FY: 'Group Inputs'!$B$3
Name PY: 'Annual Report Index'!FY-1
Name PY: 'Guidance - Cyclical Main Calc'!FY-1
Name PY: FY-1
Name PY_Roll: 'Group Inputs'!#REF!
Name SchoolName: 'Group Inputs'!$B$2
Name SchoolNm: #REF!
Name SchoolNm: [1]Inputs!$B$2
Name SchParentTBConverter: 'Sch Parent TB Converter'!$A$13:$D$249
Name SubsidiaryTBConverter: 'Subsidiary TB Converter'!$A$13:$D$249
Name TblTBConverter: '[1]Trial Balance Converter'!$A$13:$D$255
Name TblTBConverter: #REF!
Name TblTBConverter: #REF!

Sheet Changes for the 2026 model
A1: Change # | B1: Details - Worksheet Amended
A2: 1 | B2: How to use the Kiwi Park Model
A5: =A2+1 -> 2 | B5: School Trial Balance Input
A6: 2.1 | B6: Change to cyclical maintenance figures highlighted for clarity (see Guidance - Cyclical Maintenance Calculation)
A9: =A5+1 -> 3 | B9: Trial Balance Converter
A12: =A9+1 -> 4 | B12: Inputs
A15: =A12+1 -> 5 | B15: Title Page
A18: =A15+1 -> 6 | B18: Index Page
A21: =A18+1 -> 7 | B21: Statement of Responsibility
A24: =A21+1 -> 8 | B24: Statement of Comprehensive Revenue and Expense
A27: =A24+1 -> 9 | B27: Statement of Changes in Net Assets/Equity
A30: =A27+1 -> 10 | B30: Statement of Financial Position
A33: =A30+1 -> 11 | B33: Statement of Cash Flows
A36: =A33+1 -> 12 | B36: Statement of Accounting Policies
A39: =A36+1 -> 13 | B39: Notes and Disclosures
A42: =A39+1 -> 14 | B42: Guidance - General
A45: =A42+1 -> 15 | B45: Guidance - Specific Disclosures
A46: 15.1 | B46: Cell B128: The word "Ministry" replaced with "NZSPA" throughout.
A49: =A45+1 -> 16 | B49: Guidance - Cyclical Maintenance Calculation
A50: 16.1 | B50: Changed guidance in cell D6.
A51: 16.2 | B51: Changed calculation to reflect a present value adjustment to an estimated future cost, per the accounting standards.
A52: 16.3 | B52: Inflation calculated per the table in cells R27:T47.
A53: 16.4 | B53: Column M: Inflation adjusted estimated cost figures changed according to new calculation method.
A56: =A49+1 -> 17 | B56: Guidance - RTLB (Lead Schools only)
A59: =A56+1 -> 18 | B59: Revenue Types
A62: =A59+1 -> 19 | B62: Actual Cash Flow Model Current Year
A65: =A62+1 -> 20 | B65: Budget Cash Flow Model Current Year
A68: =A65+1 -> 21 | B68: Kiwi Park Data

Sheet How to use the Kiwi Park Model
B2: Kiwi Park School Model Group Accounts Programme
B4: Note: This model assumes you do not have the "Allow editing directly in cells" option enabled in Excel. If this option is enabled, you will not be able to double click on links to take you directly to their source. To change this option to use the links, click File (Or the large windows button in the top left of Excel)>Options>Advanced>Unselect the “Allow editing directly in cells” box.
A9: A | B9: About the model
B11: Schools in New Zealand are required to comply with the financial reporting standards applicable to Public Benefit Entities (PBE IPSAS). The Kiwi Park model has been put together to try and make compliance simple. It has also given the Ministry of Education an opportunity to clarify what information is required to be provided and in what format.
A16: B | B16: Mandatory sheets that make up your school's Audited Financial Statements
C19: Red sheets form your financial statements and need to be presented for audit.
A21: 1 | B21: The mandatory sheets that must be submitted as part of the complete Audited Financial statements are:
B22: click here for: | C22: Statement of Responsibility
B23: click here for: | C23: Statement of Comprehensive Revenue and Expense
B24: click here for: | C24: Statement of Change in Net Assets / Equity
B25: click here for: | C25: Statement of Financial Position
B26: click here for: | C26: Statement of Cash Flows
B27: click here for: | C27: Statement of Accounting Policies
B28: click here for: | C28: Notes and Disclosures
A33: C | B33: How to use the workbook
B34: Note: Guidance is located throughout the model. To go to the specific guidance 'double-click' the Guidance located next to specific sections of the model, or go to the sheets Guidance - General and Guidance - Specific Disclosures.
A37: 1 | B37: The Group Inputs sheet populates all other sheets in the workbook, including the Cash Flow worksheets. This Group Model consolidates the parent (Parent Inputs sheet) and subsidiary inputs (Subsidiary Inputs sheets), and accounts for any eliminations in the Eliminations sheet. If you are inserting a row (adding another account), please ensure the same is done in the other sheets.
A40: 2 | B40: All updates for this year are HIGHLIGHTED IN BLUE
A43: 3 | B43: ="The "&FY&" Kiwi Park set of accounts also includes a Statement of Cash Flows for the "&FY-1&" year as comparative figures." -> The 2026 Kiwi Park set of accounts also includes a Statement of Cash Flows for the 2025 year as comparative figures.
A45: 4 | B45: The Inputs and Cash Flow Model sheets are not mandatory but if used, should be submitted to your auditor as part of the supporting working papers for your financial statements.
A47: 4 | B47: The sheets are populated as follows:
C48: Sch Parent Trial Balance Input | F48: - is populated by the user using the schools trial balance. There are balancing checks in Row 1, please ensure that these are showing "Balances". Ensure all accounts are matched to "MOE Account Description" column I.
C49: Sch Parent TB Converter | F49: - is populated by the Sch Parent Trial Balance Input based on the coding in Sch Parent TB Converter sheet, columns G onwards.
C50: Sch PARENT Inputs | F50: - cells requiring manual input are highlighted in GREY. The rest is populated by the SCH Parent TB Converter. Where you change or insert a new account you will need to ensure it is changed in the other sheets.
C51: Subsidiary Trial Balance Input | F51: - is populated by the user using the subsidiary trial balance. There are balancing checks in Row 1, please ensure that these are showing "Balances". Ensure all accounts are matched to "MOE Account Description" column I.
C52: Subsidiary TB Converter | F52: - is populated by the Subsidiary TB Converter based on the coding in sheet Sch Parent TB Converter columns G onwards.
C53: Subsidiary Inputs | F53: - is populated by the Subsidiary TB Converter. Where you change or insert a new account, you will need to ensure it is changed in the other sheets.
C54: Eliminations | F54: - is populated by the user. Where you change or insert a new account you will need to ensure it is changed in the other sheets.
C55: Group Inputs | F55: - is populated by the user. Where you change or insert a new account, you will need to ensure it is changed in the other sheets.
C56: Subsidiary Inputs | F56: - is populated by the user. Where you change or insert a new account, you will need to ensure it is changed in the other sheets.
C57: Parent Actual Cash Flow Model CY | F57: - is automatically populated from the Inputs sheet. | K57: - cells requiring manual input have been highlighted in GREY. - cells highlighted PURPLE should equal zero.
C58: Parent Budget Cash Flow Model CY | F58: - is automatically populated from the Inputs sheet. | K58: - cells requiring manual input have been highlighted in GREY. - cells highlighted PURPLE should equal zero.
C59: Group Budget Cash Flow Model CY | F59: - is automatically populated from the Inputs sheet. | K59: - cells requiring manual input have been highlighted in GREY. - cells highlighted PURPLE should equal zero.
C60: Group Actual Cash Flow Model CY | F60: - is automatically populated from the Inputs sheet. | K60: - cells requiring manual input have been highlighted in GREY. - cells highlighted PURPLE should equal zero.
C61: Notes & Disclosures | F61: - is automatically populated from the Inputs sheet. | K61: - cells requiring manual input are highlighted in GREY.
C62: Statement of Responsibility | F62: - is not populated automatically and will need to be completed by the Presiding Member and Principal.
C63: Statement of Comprehensive Revenue and Expense | F63: - is automatically populated from the Notes and Disclosure sheet and the Inputs sheet. | K63: - check cells where information is drawn from the Inputs sheet by looking at the formula in the cell.
C64: Statement of Change in Net Assets / Equity | F64: - is automatically populated from the Inputs sheet. | K64: - cells requiring manual input are highlighted in GREY.
C65: Statement of Financial Position | F65: - is automatically populated from the Notes and Disclosure sheet and the Inputs sheet. | K65: - check cells where information is drawn from the Inputs sheet by looking at the formula in the cell.
C66: Statement of Cash Flows | F66: - is automatically populated from the Cash Flow sheets. | K66: - check cells where information is drawn from the Inputs sheet by looking at the formula in the cell.
...

Sheet Data Input ->

Sheet Sch Parent Trial Balance Input
C1: =IF(ROUND(SUM(C3:C822),0)=0,"Balances","Does Not Balance") -> Balances | D1: =IF(ROUND(SUM(D3:D822),0)=0,"Balances","Does Not Balance") -> Balances | E1: =IF(ROUND(SUM(E3:E822),0)=0,"Balances","Does Not Balance") -> Balances | F1: =IF(ROUND(SUM(F3:F822),0)=0,"Balances","Does Not Balance") -> Balances | G1: hide columns G+H before publishing
A2: Code | B2: Description | C2: ="Actual "&FY&" Amount" -> Actual 2026 Amount | D2: ="Budget "&FY&" Amount" -> Budget 2026 Amount | E2: ="Actual "&PY&" Amount" -> Actual 2025 Amount | F2: ="Opening B/S for Budget "&FY -> Opening B/S for Budget 2026 | I2: MOE Account Description | J2: Referencing Worksheet:
G3: =IF($A3="","",IFERROR(ROW(INDEX('Sch Parent TB Converter'!$ED$1:$ED$247,MATCH(TRUE,INDEX(ISNUMBER(SEARCH("x"&A3&"x",'Sch Parent TB Converter'!$ED$1:$ED$247)),0),0))),"")) | I3: =IF(AND($G3="",$A3=""),"",IF(AND($G3="",$A3<>""),"Missing from Converter Sheet",INDIRECT("'"&$J$3&"'!B"&G3))) | J3: =RIGHT(CELL("filename",'Sch Parent TB Converter'!$A$4),LEN(CELL("filename",'Sch Parent TB Converter'!$A$4))-FIND("]",CELL("filename",'Sch Parent TB Converter'!$A$4))) -> Sch Parent TB Converter
G4: =IF($A4="","",IFERROR(ROW(INDEX('Sch Parent TB Converter'!$ED$1:$ED$247,MATCH(TRUE,INDEX(ISNUMBER(SEARCH("x"&A4&"x",'Sch Parent TB Converter'!$ED$1:$ED$247)),0),0))),"")) | I4: =IF(AND($G4="",$A4=""),"",IF(AND($G4="",$A4<>""),"Missing from Converter Sheet",INDIRECT("'"&$J$3&"'!B"&G4)))
G5: =IF($A5="","",IFERROR(ROW(INDEX('Sch Parent TB Converter'!$ED$1:$ED$247,MATCH(TRUE,INDEX(ISNUMBER(SEARCH("x"&A5&"x",'Sch Parent TB Converter'!$ED$1:$ED$247)),0),0))),"")) | I5: =IF(AND($G5="",$A5=""),"",IF(AND($G5="",$A5<>""),"Missing from Converter Sheet",INDIRECT("'"&$J$3&"'!B"&G5)))
G6: =IF($A6="","",IFERROR(ROW(INDEX('Sch Parent TB Converter'!$ED$1:$ED$247,MATCH(TRUE,INDEX(ISNUMBER(SEARCH("x"&A6&"x",'Sch Parent TB Converter'!$ED$1:$ED$247)),0),0))),"")) | I6: =IF(AND($G6="",$A6=""),"",IF(AND($G6="",$A6<>""),"Missing from Converter Sheet",INDIRECT("'"&$J$3&"'!B"&G6)))
G7: =IF($A7="","",IFERROR(ROW(INDEX('Sch Parent TB Converter'!$ED$1:$ED$247,MATCH(TRUE,INDEX(ISNUMBER(SEARCH("x"&A7&"x",'Sch Parent TB Converter'!$ED$1:$ED$247)),0),0))),"")) | I7: =IF(AND($G7="",$A7=""),"",IF(AND($G7="",$A7<>""),"Missing from Converter Sheet",INDIRECT("'"&$J$3&"'!B"&G7)))
G8: =IF($A8="","",IFERROR(ROW(INDEX('Sch Parent TB Converter'!$ED$1:$ED$247,MATCH(TRUE,INDEX(ISNUMBER(SEARCH("x"&A8&"x",'Sch Parent TB Converter'!$ED$1:$ED$247)),0),0))),"")) | I8: =IF(AND($G8="",$A8=""),"",IF(AND($G8="",$A8<>""),"Missing from Converter Sheet",INDIRECT("'"&$J$3&"'!B"&G8)))
G9: =IF($A9="","",IFERROR(ROW(INDEX('Sch Parent TB Converter'!$ED$1:$ED$247,MATCH(TRUE,INDEX(ISNUMBER(SEARCH("x"&A9&"x",'Sch Parent TB Converter'!$ED$1:$ED$247)),0),0))),"")) | I9: =IF(AND($G9="",$A9=""),"",IF(AND($G9="",$A9<>""),"Missing from Converter Sheet",INDIRECT("'"&$J$3&"'!B"&G9)))
G10: =IF($A10="","",IFERROR(ROW(INDEX('Sch Parent TB Converter'!$ED$1:$ED$247,MATCH(TRUE,INDEX(ISNUMBER(SEARCH("x"&A10&"x",'Sch Parent TB Converter'!$ED$1:$ED$247)),0),0))),"")) | I10: =IF(AND($G10="",$A10=""),"",IF(AND($G10="",$A10<>""),"Missing from Converter Sheet",INDIRECT("'"&$J$3&"'!B"&G10)))
G11: =IF($A11="","",IFERROR(ROW(INDEX('Sch Parent TB Converter'!$ED$1:$ED$247,MATCH(TRUE,INDEX(ISNUMBER(SEARCH("x"&A11&"x",'Sch Parent TB Converter'!$ED$1:$ED$247)),0),0))),"")) | I11: =IF(AND($G11="",$A11=""),"",IF(AND($G11="",$A11<>""),"Missing from Converter Sheet",INDIRECT("'"&$J$3&"'!B"&G11)))
G12: =IF($A12="","",IFERROR(ROW(INDEX('Sch Parent TB Converter'!$ED$1:$ED$247,MATCH(TRUE,INDEX(ISNUMBER(SEARCH("x"&A12&"x",'Sch Parent TB Converter'!$ED$1:$ED$247)),0),0))),"")) | I12: =IF(AND($G12="",$A12=""),"",IF(AND($G12="",$A12<>""),"Missing from Converter Sheet",INDIRECT("'"&$J$3&"'!B"&G12)))
G13: =IF($A13="","",IFERROR(ROW(INDEX('Sch Parent TB Converter'!$ED$1:$ED$247,MATCH(TRUE,INDEX(ISNUMBER(SEARCH("x"&A13&"x",'Sch Parent TB Converter'!$ED$1:$ED$247)),0),0))),"")) | I13: =IF(AND($G13="",$A13=""),"",IF(AND($G13="",$A13<>""),"Missing from Converter Sheet",INDIRECT("'"&$J$3&"'!B"&G13)))
G14: =IF($A14="","",IFERROR(ROW(INDEX('Sch Parent TB Converter'!$ED$1:$ED$247,MATCH(TRUE,INDEX(ISNUMBER(SEARCH("x"&A14&"x",'Sch Parent TB Converter'!$ED$1:$ED$247)),0),0))),"")) | I14: =IF(AND($G14="",$A14=""),"",IF(AND($G14="",$A14<>""),"Missing from Converter Sheet",INDIRECT("'"&$J$3&"'!B"&G14)))
G15: =IF($A15="","",IFERROR(ROW(INDEX('Sch Parent TB Converter'!$ED$1:$ED$247,MATCH(TRUE,INDEX(ISNUMBER(SEARCH("x"&A15&"x",'Sch Parent TB Converter'!$ED$1:$ED$247)),0),0))),"")) | I15: =IF(AND($G15="",$A15=""),"",IF(AND($G15="",$A15<>""),"Missing from Converter Sheet",INDIRECT("'"&$J$3&"'!B"&G15)))
... G227: =IF($A227="","",IFERROR(ROW(INDEX('Sch Parent TB Converter'!$ED$1:$ED$247,MATCH(TRUE,INDEX(ISNUMBER(SEARCH("x"&A227&"x",'Sch Parent TB Converter'!$ED$1:$ED$247)),0),0))),"")) | I227: =IF(AND($G227="",$A227=""),"",IF(AND($G227="",$A227<>""),"Missing from Converter Sheet",INDIRECT("'"&$J$3&"'!B"&G227)))
G228: =IF($A228="","",IFERROR(ROW(INDEX('Sch Parent TB Converter'!$ED$1:$ED$247,MATCH(TRUE,INDEX(ISNUMBER(SEARCH("x"&A228&"x",'Sch Parent TB Converter'!$ED$1:$ED$247)),0),0))),"")) | I228: Equity Investments
G229: =IF($A229="","",IFERROR(ROW(INDEX('Sch Parent TB Converter'!$ED$1:$ED$247,MATCH(TRUE,INDEX(ISNUMBER(SEARCH("x"&A229&"x",'Sch Parent TB Converter'!$ED$1:$ED$247)),0),0))),"")) | I229: Equity Investments
G230: =IF($A230="","",IFERROR(ROW(INDEX('Sch Parent TB Converter'!$ED$1:$ED$247,MATCH(TRUE,INDEX(ISNUMBER(SEARCH("x"&A230&"x",'Sch Parent TB Converter'!$ED$1:$ED$247)),0),0))),"")) | I230: =IF(AND($G230="",$A230=""),"",IF(AND($G230="",$A230<>""),"Missing from Converter Sheet",INDIRECT("'"&$J$3&"'!B"&G230)))
G231: =IF($A231="","",IFERROR(ROW(INDEX('Sch Parent TB Converter'!$ED$1:$ED$247,MATCH(TRUE,INDEX(ISNUMBER(SEARCH("x"&A231&"x",'Sch Parent TB Converter'!$ED$1:$ED$247)),0),0))),"")) | I231: =IF(AND($G231="",$A231=""),"",IF(AND($G231="",$A231<>""),"Missing from Converter Sheet",INDIRECT("'"&$J$3&"'!B"&G231)))
G232: =IF($A232="","",IFERROR(ROW(INDEX('Sch Parent TB Converter'!$ED$1:$ED$247,MATCH(TRUE,INDEX(ISNUMBER(SEARCH("x"&A232&"x",'Sch Parent TB Converter'!$ED$1:$ED$247)),0),0))),"")) | I232: =IF(AND($G232="",$A232=""),"",IF(AND($G232="",$A232<>""),"Missing from Converter Sheet",INDIRECT("'"&$J$3&"'!B"&G232)))
G233: =IF($A233="","",IFERROR(ROW(INDEX('Sch Parent TB Converter'!$ED$1:$ED$247,MATCH(TRUE,INDEX(ISNUMBER(SEARCH("x"&A233&"x",'Sch Parent TB Converter'!$ED$1:$ED$247)),0),0))),"")) | I233: =IF(AND($G233="",$A233=""),"",IF(AND($G233="",$A233<>""),"Missing from Converter Sheet",INDIRECT("'"&$J$3&"'!B"&G233)))
G234: =IF($A234="","",IFERROR(ROW(INDEX('Sch Parent TB Converter'!$ED$1:$ED$247,MATCH(TRUE,INDEX(ISNUMBER(SEARCH("x"&A234&"x",'Sch Parent TB Converter'!$ED$1:$ED$247)),0),0))),"")) | I234: =IF(AND($G234="",$A234=""),"",IF(AND($G234="",$A234<>""),"Missing from Converter Sheet",INDIRECT("'"&$J$3&"'!B"&G234)))
G235: =IF($A235="","",IFERROR(ROW(INDEX('Sch Parent TB Converter'!$ED$1:$ED$247,MATCH(TRUE,INDEX(ISNUMBER(SEARCH("x"&A235&"x",'Sch Parent TB Converter'!$ED$1:$ED$247)),0),0))),"")) | I235: =IF(AND($G235="",$A235=""),"",IF(AND($G235="",$A235<>""),"Missing from Converter Sheet",INDIRECT("'"&$J$3&"'!B"&G235)))
G236: =IF($A236="","",IFERROR(ROW(INDEX('Sch Parent TB Converter'!$ED$1:$ED$247,MATCH(TRUE,INDEX(ISNUMBER(SEARCH("x"&A236&"x",'Sch Parent TB Converter'!$ED$1:$ED$247)),0),0))),"")) | I236: =IF(AND($G236="",$A236=""),"",IF(AND($G236="",$A236<>""),"Missing from Converter Sheet",INDIRECT("'"&$J$3&"'!B"&G236)))
G237: =IF($A237="","",IFERROR(ROW(INDEX('Sch Parent TB Converter'!$ED$1:$ED$247,MATCH(TRUE,INDEX(ISNUMBER(SEARCH("x"&A237&"x",'Sch Parent TB Converter'!$ED$1:$ED$247)),0),0))),"")) | I237: =IF(AND($G237="",$A237=""),"",IF(AND($G237="",$A237<>""),"Missing from Converter Sheet",INDIRECT("'"&$J$3&"'!B"&G237)))
G238: =IF($A238="","",IFERROR(ROW(INDEX('Sch Parent TB Converter'!$ED$1:$ED$247,MATCH(TRUE,INDEX(ISNUMBER(SEARCH("x"&A238&"x",'Sch Parent TB Converter'!$ED$1:$ED$247)),0),0))),"")) | I238: =IF(AND($G238="",$A238=""),"",IF(AND($G238="",$A238<>""),"Missing from Converter Sheet",INDIRECT("'"&$J$3&"'!B"&G238)))
G239: =IF($A239="","",IFERROR(ROW(INDEX('Sch Parent TB Converter'!$ED$1:$ED$247,MATCH(TRUE,INDEX(ISNUMBER(SEARCH("x"&A239&"x",'Sch Parent TB Converter'!$ED$1:$ED$247)),0),0))),"")) | I239: =IF(AND($G239="",$A239=""),"",IF(AND($G239="",$A239<>""),"Missing from Converter Sheet",INDIRECT("'"&$J$3&"'!B"&G239)))
G240: =IF($A240="","",IFERROR(ROW(INDEX('Sch Parent TB Converter'!$ED$1:$ED$247,MATCH(TRUE,INDEX(ISNUMBER(SEARCH("x"&A240&"x",'Sch Parent TB Converter'!$ED$1:$ED$247)),0),0))),"")) | I240: =IF(AND($G240="",$A240=""),"",IF(AND($G240="",$A240<>""),"Missing from Converter Sheet",INDIRECT("'"&$J$3&"'!B"&G240)))
G241: =IF($A241="","",IFERROR(ROW(INDEX('Sch Parent TB Converter'!$ED$1:$ED$247,MATCH(TRUE,INDEX(ISNUMBER(SEARCH("x"&A241&"x",'Sch Parent TB Converter'!$ED$1:$ED$247)),0),0))),"")) | I241: =IF(AND($G241="",$A241=""),"",IF(AND($G241="",$A241<>""),"Missing from Converter Sheet",INDIRECT("'"&$J$3&"'!B"&G241)))
... G510: =IF($A510="","",IFERROR(ROW(INDEX('Sch Parent TB Converter'!$ED$1:$ED$247,MATCH(TRUE,INDEX(ISNUMBER(SEARCH("x"&A510&"x",'Sch Parent TB Converter'!$ED$1:$ED$247)),0),0))),"")) | I510: =IF(AND($G510="",$A510=""),"",IF(AND($G510="",$A510<>""),"Missing from Converter Sheet",INDIRECT("'"&$J$3&"'!B"&G510)))
I511: =IF(AND($G511="",$A511=""),"",IF(AND($G511="",$A511<>""),"Missing from Converter Sheet",INDIRECT("'"&$J$3&"'!B"&G511)))
I512: =IF(AND($G512="",$A512=""),"",IF(AND($G512="",$A512<>""),"Missing from Converter Sheet",INDIRECT("'"&$J$3&"'!B"&G512)))
I513: =IF(AND($G513="",$A513=""),"",IF(AND($G513="",$A513<>""),"Missing from Converter Sheet",INDIRECT("'"&$J$3&"'!B"&G513)))
I514: =IF(AND($G514="",$A514=""),"",IF(AND($G514="",$A514<>""),"Missing from Converter Sheet",INDIRECT("'"&$J$3&"'!B"&G514)))
I515: =IF(AND($G515="",$A515=""),"",IF(AND($G515="",$A515<>""),"Missing from Converter Sheet",INDIRECT("'"&$J$3&"'!B"&G515)))
I516: =IF(AND($G516="",$A516=""),"",IF(AND($G516="",$A516<>""),"Missing from Converter Sheet",INDIRECT("'"&$J$3&"'!B"&G516)))
I517: =IF(AND($G517="",$A517=""),"",IF(AND($G517="",$A517<>""),"Missing from Converter Sheet",INDIRECT("'"&$J$3&"'!B"&G517)))
A518: 1 | B518: 1 | G518: 1 | H518: 1 | I518: 0

Sheet Sch Parent TB Converter
A1: School Parent Trial Balance Converter
A2: This tool provides a simple way to map the individual school's (and subsidiaries) trial balance to the Kiwi Park model codes. Once the trial balance has been mapped for the first use, a new trial balance can be pasted in and flow throughout the model without needing each number to be re-entered into the inputs page.
A5: Instructions:
A6: 1. Paste the school's trial balance into the Sch Parent Trial Balance Input sheet in a 3 column format (TB code, Description, Amount). Make sure you only put in whole dollars to avoid rounding errors.
A8: 2. Enter each of the school's trial balance codes that apply to each Kiwi Park code individually in the columns G - Z on this tab.
A10: 3. The amount column will show the total of all the school trial balance codes that have been allocated.
C12: =IF(ABS(ROUND(SUM(C15:C248),0))=0,"Balances","Does Not Balance") -> Balances | D12: =IF(ABS(ROUND(SUM(D15:D248),0))=0,"Balances","Does Not Balance") -> Balances | E12: =IF(ABS(ROUND(SUM(E15:E248),0))=0,"Balances","Does Not Balance") -> Balances | F12: =IF(ABS(ROUND(SUM(F15:F248),0))=0,"Balances","Does Not Balance") -> Balances | G12: =IF(COUNT(G15:EC248)=COUNT('Sch Parent Trial Balance Input'!A:A),"Codes Agree","Codes Excluded") -> Codes Excluded
A13: Kiwi Park Code | B13: Revenue & Expenditure | C13: ='Sch Parent Trial Balance Input'!C2 -> Actual 2026 Amount | D13: ='Sch Parent Trial Balance Input'!D2 -> Budget 2026 Amount | E13: ='Sch Parent Trial Balance Input'!E2 -> Actual 2025 Amount | F13: ='Sch Parent Trial Balance Input'!F2 -> Opening B/S for Budget 2026 | G13: School Trial Balance Lines | ED13: 1 | EE13: 1
B14: 1. Government Grants
B15: Revenue | ED15: =CONCATENATE("x",G15,"x",H15,"x",I15,"x",J15,"x",K15,"x",L15,"x",M15,"x",N15,"x",O15,"x",P15,"x",Q15,"x",R15,"x",S15,"x",T15,"x",U15,"x",V15,"x",W15,"x",X15,"x",Y15,"x",Z15,"x",AA15,"x",AB15,"x",AC15,"x",AD15,"x",AE15,"x",AF15,"x",AG15,"x",AH15,"x",AI15,"x",AJ15,"x",AK15,"x",AL15,"x",AM15,"x",AN15,"x",AO15,"x",AP15,"x",AQ15,"x",AR15,"x",AS15,"x",AT15,"x",AU15,"x",AV15,"x",AW15,"x",AX15,"x",AY15,"x",AZ15,"x",BA15,"x",BB15,"x",BC15,"x",BD15,"x",BE15,"x",BF15,"x",BG15,"x",BH15,"x",BI15,"x",BJ15,"x",BK15,"x",BL15,"x",BM15,"x",BN15,"x",BO15,"x",BP15,"x",BQ15,"x",BR15,"x",BS15,"x",BT15,"x",BU15,"x",BV15,"x",BW15,"x",BX15,"x",BY15,"x",BZ15,"x",CA15,"x",CB15,"x",CC15,"x",CD15,"x",CE15,"x",CF15,"x",CG15,"x",CH15,"x",CI15,"x",CJ15,"x",CK15,"x",CL15,"x",CM15,"x",CN15,"x",CO15,"x",CP15,"x",CQ15,"x",CR15,"x",CS15,"x",CT15,"x",CU15,"x",CV15,"x",CW15,"x",CX15,"x",CY15,"x",CZ15,"x",DA15,"x",DB15,"x",DC15,"x",DD15,"x",DE15,"x",DF15,"x",DG15,"x",DH15,"x",DI15,"x",DJ15,"x",DK15,"x",DL15,"x",DM15,"x",DN15,"x",DO15,"x",DP15,"x",DQ15,"x",DR15,"x",DS15,"x",DT15,"x",DU15,"x",DV15,"x",DW15,"x",DX15,"x",DY15,"x",DZ15,"x",EA15,"x",EB15,"x",EC15,"x") -> xxxxxxxxxxxxxxxxxxxxxxxxxxxxxxxxxxxxxxxxxxxxxxxxxxxxxxxxxxxxxxxxxxxxxxxxxxxxxxxxxxxxxxxxxxxxxxxxxxxxxxxxxxxxxxxxxxxxxxxxxxxxxxxx
A16: 1120 | B16: Government Grants - Ministry of Education | C16: =SUMPRODUCT(SUMIF('Sch Parent Trial Balance Input'!$A:$A,'Sch Parent TB Converter'!$G16:$EC16,'Sch Parent Trial Balance Input'!C:C)) -> 0 | D16: =SUMPRODUCT(SUMIF('Sch Parent Trial Balance Input'!$A:$A,'Sch Parent TB Converter'!$G16:$EC16,'Sch Parent Trial Balance Input'!D:D)) -> 0 | E16: =SUMPRODUCT(SUMIF('Sch Parent Trial Balance Input'!$A:$A,'Sch Parent TB Converter'!$G16:$EC16,'Sch Parent Trial Balance Input'!E:E)) -> 0 | ED16: =CONCATENATE("x",G16,"x",H16,"x",I16,"x",J16,"x",K16,"x",L16,"x",M16,"x",N16,"x",O16,"x",P16,"x",Q16,"x",R16,"x",S16,"x",T16,"x",U16,"x",V16,"x",W16,"x",X16,"x",Y16,"x",Z16,"x",AA16,"x",AB16,"x",AC16,"x",AD16,"x",AE16,"x",AF16,"x",AG16,"x",AH16,"x",AI16,"x",AJ16,"x",AK16,"x",AL16,"x",AM16,"x",AN16,"x",AO16,"x",AP16,"x",AQ16,"x",AR16,"x",AS16,"x",AT16,"x",AU16,"x",AV16,"x",AW16,"x",AX16,"x",AY16,"x",AZ16,"x",BA16,"x",BB16,"x",BC16,"x",BD16,"x",BE16,"x",BF16,"x",BG16,"x",BH16,"x",BI16,"x",BJ16,"x",BK16,"x",BL16,"x",BM16,"x",BN16,"x",BO16,"x",BP16,"x",BQ16,"x",BR16,"x",BS16,"x",BT16,"x",BU16,"x",BV16,"x",BW16,"x",BX16,"x",BY16,"x",BZ16,"x",CA16,"x",CB16,"x",CC16,"x",CD16,"x",CE16,"x",CF16,"x",CG16,"x",CH16,"x",CI16,"x",CJ16,"x",CK16,"x",CL16,"x",CM16,"x",CN16,"x",CO16,"x",CP16,"x",CQ16,"x",CR16,"x",CS16,"x",CT16,"x",CU16,"x",CV16,"x",CW16,"x",CX16,"x",CY16,"x",CZ16,"x",DA16,"x",DB16,"x",DC16,"x",DD16,"x",DE16,"x",DF16,"x",DG16,"x",DH16,"x",DI16,"x",DJ16,"x",DK16,"x",DL16,"x",DM16,"x",DN16,"x",DO16,"x",DP16,"x",DQ16,"x",DR16,"x",DS16,"x",DT16,"x",DU16,"x",DV16,"x",DW16,"x",DX16,"x",DY16,"x",DZ16,"x",EA16,"x",EB16,"x",EC16,"x") -> xxxxxxxxxxxxxxxxxxxxxxxxxxxxxxxxxxxxxxxxxxxxxxxxxxxxxxxxxxxxxxxxxxxxxxxxxxxxxxxxxxxxxxxxxxxxxxxxxxxxxxxxxxxxxxxxxxxxxxxxxxxxxxxx
A17: 1160 | B17: Teachers' Salaries Grants | C17: =SUMPRODUCT(SUMIF('Sch Parent Trial Balance Input'!$A:$A,'Sch Parent TB Converter'!$G17:$EC17,'Sch Parent Trial Balance Input'!C:C)) -> 0 | D17: =SUMPRODUCT(SUMIF('Sch Parent Trial Balance Input'!$A:$A,'Sch Parent TB Converter'!$G17:$EC17,'Sch Parent Trial Balance Input'!D:D)) -> 0 | E17: =SUMPRODUCT(SUMIF('Sch Parent Trial Balance Input'!$A:$A,'Sch Parent TB Converter'!$G17:$EC17,'Sch Parent Trial Balance Input'!E:E)) -> 0 | ED17: =CONCATENATE("x",G17,"x",H17,"x",I17,"x",J17,"x",K17,"x",L17,"x",M17,"x",N17,"x",O17,"x",P17,"x",Q17,"x",R17,"x",S17,"x",T17,"x",U17,"x",V17,"x",W17,"x",X17,"x",Y17,"x",Z17,"x",AA17,"x",AB17,"x",AC17,"x",AD17,"x",AE17,"x",AF17,"x",AG17,"x",AH17,"x",AI17,"x",AJ17,"x",AK17,"x",AL17,"x",AM17,"x",AN17,"x",AO17,"x",AP17,"x",AQ17,"x",AR17,"x",AS17,"x",AT17,"x",AU17,"x",AV17,"x",AW17,"x",AX17,"x",AY17,"x",AZ17,"x",BA17,"x",BB17,"x",BC17,"x",BD17,"x",BE17,"x",BF17,"x",BG17,"x",BH17,"x",BI17,"x",BJ17,"x",BK17,"x",BL17,"x",BM17,"x",BN17,"x",BO17,"x",BP17,"x",BQ17,"x",BR17,"x",BS17,"x",BT17,"x",BU17,"x",BV17,"x",BW17,"x",BX17,"x",BY17,"x",BZ17,"x",CA17,"x",CB17,"x",CC17,"x",CD17,"x",CE17,"x",CF17,"x",CG17,"x",CH17,"x",CI17,"x",CJ17,"x",CK17,"x",CL17,"x",CM17,"x",CN17,"x",CO17,"x",CP17,"x",CQ17,"x",CR17,"x",CS17,"x",CT17,"x",CU17,"x",CV17,"x",CW17,"x",CX17,"x",CY17,"x",CZ17,"x",DA17,"x",DB17,"x",DC17,"x",DD17,"x",DE17,"x",DF17,"x",DG17,"x",DH17,"x",DI17,"x",DJ17,"x",DK17,"x",DL17,"x",DM17,"x",DN17,"x",DO17,"x",DP17,"x",DQ17,"x",DR17,"x",DS17,"x",DT17,"x",DU17,"x",DV17,"x",DW17,"x",DX17,"x",DY17,"x",DZ17,"x",EA17,"x",EB17,"x",EC17,"x") -> xxxxxxxxxxxxxxxxxxxxxxxxxxxxxxxxxxxxxxxxxxxxxxxxxxxxxxxxxxxxxxxxxxxxxxxxxxxxxxxxxxxxxxxxxxxxxxxxxxxxxxxxxxxxxxxxxxxxxxxxxxxxxxxx
A18: 1170 | B18: Use of Land and Buildings Grants | C18: =SUMPRODUCT(SUMIF('Sch Parent Trial Balance Input'!$A:$A,'Sch Parent TB Converter'!$G18:$EC18,'Sch Parent Trial Balance Input'!C:C)) -> 0 | D18: =SUMPRODUCT(SUMIF('Sch Parent Trial Balance Input'!$A:$A,'Sch Parent TB Converter'!$G18:$EC18,'Sch Parent Trial Balance Input'!D:D)) -> 0 | E18: =SUMPRODUCT(SUMIF('Sch Parent Trial Balance Input'!$A:$A,'Sch Parent TB Converter'!$G18:$EC18,'Sch Parent Trial Balance Input'!E:E)) -> 0 | ED18: =CONCATENATE("x",G18,"x",H18,"x",I18,"x",J18,"x",K18,"x",L18,"x",M18,"x",N18,"x",O18,"x",P18,"x",Q18,"x",R18,"x",S18,"x",T18,"x",U18,"x",V18,"x",W18,"x",X18,"x",Y18,"x",Z18,"x",AA18,"x",AB18,"x",AC18,"x",AD18,"x",AE18,"x",AF18,"x",AG18,"x",AH18,"x",AI18,"x",AJ18,"x",AK18,"x",AL18,"x",AM18,"x",AN18,"x",AO18,"x",AP18,"x",AQ18,"x",AR18,"x",AS18,"x",AT18,"x",AU18,"x",AV18,"x",AW18,"x",AX18,"x",AY18,"x",AZ18,"x",BA18,"x",BB18,"x",BC18,"x",BD18,"x",BE18,"x",BF18,"x",BG18,"x",BH18,"x",BI18,"x",BJ18,"x",BK18,"x",BL18,"x",BM18,"x",BN18,"x",BO18,"x",BP18,"x",BQ18,"x",BR18,"x",BS18,"x",BT18,"x",BU18,"x",BV18,"x",BW18,"x",BX18,"x",BY18,"x",BZ18,"x",CA18,"x",CB18,"x",CC18,"x",CD18,"x",CE18,"x",CF18,"x",CG18,"x",CH18,"x",CI18,"x",CJ18,"x",CK18,"x",CL18,"x",CM18,"x",CN18,"x",CO18,"x",CP18,"x",CQ18,"x",CR18,"x",CS18,"x",CT18,"x",CU18,"x",CV18,"x",CW18,"x",CX18,"x",CY18,"x",CZ18,"x",DA18,"x",DB18,"x",DC18,"x",DD18,"x",DE18,"x",DF18,"x",DG18,"x",DH18,"x",DI18,"x",DJ18,"x",DK18,"x",DL18,"x",DM18,"x",DN18,"x",DO18,"x",DP18,"x",DQ18,"x",DR18,"x",DS18,"x",DT18,"x",DU18,"x",DV18,"x",DW18,"x",DX18,"x",DY18,"x",DZ18,"x",EA18,"x",EB18,"x",EC18,"x") -> xxxxxxxxxxxxxxxxxxxxxxxxxxxxxxxxxxxxxxxxxxxxxxxxxxxxxxxxxxxxxxxxxxxxxxxxxxxxxxxxxxxxxxxxxxxxxxxxxxxxxxxxxxxxxxxxxxxxxxxxxxxxxxxx
A19: 1181 | B19: Ka Ora, Ka Ako - Healthy School Lunches Programme | C19: =SUMPRODUCT(SUMIF('Sch Parent Trial Balance Input'!$A:$A,'Sch Parent TB Converter'!$G19:$EC19,'Sch Parent Trial Balance Input'!C:C)) -> 0 | D19: =SUMPRODUCT(SUMIF('Sch Parent Trial Balance Input'!$A:$A,'Sch Parent TB Converter'!$G19:$EC19,'Sch Parent Trial Balance Input'!D:D)) -> 0 | E19: =SUMPRODUCT(SUMIF('Sch Parent Trial Balance Input'!$A:$A,'Sch Parent TB Converter'!$G19:$EC19,'Sch Parent Trial Balance Input'!E:E)) -> 0 | ED19: =CONCATENATE("x",G19,"x",H19,"x",I19,"x",J19,"x",K19,"x",L19,"x",M19,"x",N19,"x",O19,"x",P19,"x",Q19,"x",R19,"x",S19,"x",T19,"x",U19,"x",V19,"x",W19,"x",X19,"x",Y19,"x",Z19,"x",AA19,"x",AB19,"x",AC19,"x",AD19,"x",AE19,"x",AF19,"x",AG19,"x",AH19,"x",AI19,"x",AJ19,"x",AK19,"x",AL19,"x",AM19,"x",AN19,"x",AO19,"x",AP19,"x",AQ19,"x",AR19,"x",AS19,"x",AT19,"x",AU19,"x",AV19,"x",AW19,"x",AX19,"x",AY19,"x",AZ19,"x",BA19,"x",BB19,"x",BC19,"x",BD19,"x",BE19,"x",BF19,"x",BG19,"x",BH19,"x",BI19,"x",BJ19,"x",BK19,"x",BL19,"x",BM19,"x",BN19,"x",BO19,"x",BP19,"x",BQ19,"x",BR19,"x",BS19,"x",BT19,"x",BU19,"x",BV19,"x",BW19,"x",BX19,"x",BY19,"x",BZ19,"x",CA19,"x",CB19,"x",CC19,"x",CD19,"x",CE19,"x",CF19,"x",CG19,"x",CH19,"x",CI19,"x",CJ19,"x",CK19,"x",CL19,"x",CM19,"x",CN19,"x",CO19,"x",CP19,"x",CQ19,"x",CR19,"x",CS19,"x",CT19,"x",CU19,"x",CV19,"x",CW19,"x",CX19,"x",CY19,"x",CZ19,"x",DA19,"x",DB19,"x",DC19,"x",DD19,"x",DE19,"x",DF19,"x",DG19,"x",DH19,"x",DI19,"x",DJ19,"x",DK19,"x",DL19,"x",DM19,"x",DN19,"x",DO19,"x",DP19,"x",DQ19,"x",DR19,"x",DS19,"x",DT19,"x",DU19,"x",DV19,"x",DW19,"x",DX19,"x",DY19,"x",DZ19,"x",EA19,"x",EB19,"x",EC19,"x") -> xxxxxxxxxxxxxxxxxxxxxxxxxxxxxxxxxxxxxxxxxxxxxxxxxxxxxxxxxxxxxxxxxxxxxxxxxxxxxxxxxxxxxxxxxxxxxxxxxxxxxxxxxxxxxxxxxxxxxxxxxxxxxxxx
A20: 1130 | B20: Other Government Grants | C20: =SUMPRODUCT(SUMIF('Sch Parent Trial Balance Input'!$A:$A,'Sch Parent TB Converter'!$G20:$EC20,'Sch Parent Trial Balance Input'!C:C)) -> 0 | D20: =SUMPRODUCT(SUMIF('Sch Parent Trial Balance Input'!$A:$A,'Sch Parent TB Converter'!$G20:$EC20,'Sch Parent Trial Balance Input'!D:D)) -> 0 | E20: =SUMPRODUCT(SUMIF('Sch Parent Trial Balance Input'!$A:$A,'Sch Parent TB Converter'!$G20:$EC20,'Sch Parent Trial Balance Input'!E:E)) -> 0 | ED20: =CONCATENATE("x",G20,"x",H20,"x",I20,"x",J20,"x",K20,"x",L20,"x",M20,"x",N20,"x",O20,"x",P20,"x",Q20,"x",R20,"x",S20,"x",T20,"x",U20,"x",V20,"x",W20,"x",X20,"x",Y20,"x",Z20,"x",AA20,"x",AB20,"x",AC20,"x",AD20,"x",AE20,"x",AF20,"x",AG20,"x",AH20,"x",AI20,"x",AJ20,"x",AK20,"x",AL20,"x",AM20,"x",AN20,"x",AO20,"x",AP20,"x",AQ20,"x",AR20,"x",AS20,"x",AT20,"x",AU20,"x",AV20,"x",AW20,"x",AX20,"x",AY20,"x",AZ20,"x",BA20,"x",BB20,"x",BC20,"x",BD20,"x",BE20,"x",BF20,"x",BG20,"x",BH20,"x",BI20,"x",BJ20,"x",BK20,"x",BL20,"x",BM20,"x",BN20,"x",BO20,"x",BP20,"x",BQ20,"x",BR20,"x",BS20,"x",BT20,"x",BU20,"x",BV20,"x",BW20,"x",BX20,"x",BY20,"x",BZ20,"x",CA20,"x",CB20,"x",CC20,"x",CD20,"x",CE20,"x",CF20,"x",CG20,"x",CH20,"x",CI20,"x",CJ20,"x",CK20,"x",CL20,"x",CM20,"x",CN20,"x",CO20,"x",CP20,"x",CQ20,"x",CR20,"x",CS20,"x",CT20,"x",CU20,"x",CV20,"x",CW20,"x",CX20,"x",CY20,"x",CZ20,"x",DA20,"x",DB20,"x",DC20,"x",DD20,"x",DE20,"x",DF20,"x",DG20,"x",DH20,"x",DI20,"x",DJ20,"x",DK20,"x",DL20,"x",DM20,"x",DN20,"x",DO20,"x",DP20,"x",DQ20,"x",DR20,"x",DS20,"x",DT20,"x",DU20,"x",DV20,"x",DW20,"x",DX20,"x",DY20,"x",DZ20,"x",EA20,"x",EB20,"x",EC20,"x") -> xxxxxxxxxxxxxxxxxxxxxxxxxxxxxxxxxxxxxxxxxxxxxxxxxxxxxxxxxxxxxxxxxxxxxxxxxxxxxxxxxxxxxxxxxxxxxxxxxxxxxxxxxxxxxxxxxxxxxxxxxxxxxxxx
ED21: =CONCATENATE("x",G21,"x",H21,"x",I21,"x",J21,"x",K21,"x",L21,"x",M21,"x",N21,"x",O21,"x",P21,"x",Q21,"x",R21,"x",S21,"x",T21,"x",U21,"x",V21,"x",W21,"x",X21,"x",Y21,"x",Z21,"x",AA21,"x",AB21,"x",AC21,"x",AD21,"x",AE21,"x",AF21,"x",AG21,"x",AH21,"x",AI21,"x",AJ21,"x",AK21,"x",AL21,"x",AM21,"x",AN21,"x",AO21,"x",AP21,"x",AQ21,"x",AR21,"x",AS21,"x",AT21,"x",AU21,"x",AV21,"x",AW21,"x",AX21,"x",AY21,"x",AZ21,"x",BA21,"x",BB21,"x",BC21,"x",BD21,"x",BE21,"x",BF21,"x",BG21,"x",BH21,"x",BI21,"x",BJ21,"x",BK21,"x",BL21,"x",BM21,"x",BN21,"x",BO21,"x",BP21,"x",BQ21,"x",BR21,"x",BS21,"x",BT21,"x",BU21,"x",BV21,"x",BW21,"x",BX21,"x",BY21,"x",BZ21,"x",CA21,"x",CB21,"x",CC21,"x",CD21,"x",CE21,"x",CF21,"x",CG21,"x",CH21,"x",CI21,"x",CJ21,"x",CK21,"x",CL21,"x",CM21,"x",CN21,"x",CO21,"x",CP21,"x",CQ21,"x",CR21,"x",CS21,"x",CT21,"x",CU21,"x",CV21,"x",CW21,"x",CX21,"x",CY21,"x",CZ21,"x",DA21,"x",DB21,"x",DC21,"x",DD21,"x",DE21,"x",DF21,"x",DG21,"x",DH21,"x",DI21,"x",DJ21,"x",DK21,"x",DL21,"x",DM21,"x",DN21,"x",DO21,"x",DP21,"x",DQ21,"x",DR21,"x",DS21,"x",DT21,"x",DU21,"x",DV21,"x",DW21,"x",DX21,"x",DY21,"x",DZ21,"x",EA21,"x",EB21,"x",EC21,"x") -> xxxxxxxxxxxxxxxxxxxxxxxxxxxxxxxxxxxxxxxxxxxxxxxxxxxxxxxxxxxxxxxxxxxxxxxxxxxxxxxxxxxxxxxxxxxxxxxxxxxxxxxxxxxxxxxxxxxxxxxxxxxxxxxx
B22: 2. Local Funds | ED22: =CONCATENATE("x",G22,"x",H22,"x",I22,"x",J22,"x",K22,"x",L22,"x",M22,"x",N22,"x",O22,"x",P22,"x",Q22,"x",R22,"x",S22,"x",T22,"x",U22,"x",V22,"x",W22,"x",X22,"x",Y22,"x",Z22,"x",AA22,"x",AB22,"x",AC22,"x",AD22,"x",AE22,"x",AF22,"x",AG22,"x",AH22,"x",AI22,"x",AJ22,"x",AK22,"x",AL22,"x",AM22,"x",AN22,"x",AO22,"x",AP22,"x",AQ22,"x",AR22,"x",AS22,"x",AT22,"x",AU22,"x",AV22,"x",AW22,"x",AX22,"x",AY22,"x",AZ22,"x",BA22,"x",BB22,"x",BC22,"x",BD22,"x",BE22,"x",BF22,"x",BG22,"x",BH22,"x",BI22,"x",BJ22,"x",BK22,"x",BL22,"x",BM22,"x",BN22,"x",BO22,"x",BP22,"x",BQ22,"x",BR22,"x",BS22,"x",BT22,"x",BU22,"x",BV22,"x",BW22,"x",BX22,"x",BY22,"x",BZ22,"x",CA22,"x",CB22,"x",CC22,"x",CD22,"x",CE22,"x",CF22,"x",CG22,"x",CH22,"x",CI22,"x",CJ22,"x",CK22,"x",CL22,"x",CM22,"x",CN22,"x",CO22,"x",CP22,"x",CQ22,"x",CR22,"x",CS22,"x",CT22,"x",CU22,"x",CV22,"x",CW22,"x",CX22,"x",CY22,"x",CZ22,"x",DA22,"x",DB22,"x",DC22,"x",DD22,"x",DE22,"x",DF22,"x",DG22,"x",DH22,"x",DI22,"x",DJ22,"x",DK22,"x",DL22,"x",DM22,"x",DN22,"x",DO22,"x",DP22,"x",DQ22,"x",DR22,"x",DS22,"x",DT22,"x",DU22,"x",DV22,"x",DW22,"x",DX22,"x",DY22,"x",DZ22,"x",EA22,"x",EB22,"x",EC22,"x") -> xxxxxxxxxxxxxxxxxxxxxxxxxxxxxxxxxxxxxxxxxxxxxxxxxxxxxxxxxxxxxxxxxxxxxxxxxxxxxxxxxxxxxxxxxxxxxxxxxxxxxxxxxxxxxxxxxxxxxxxxxxxxxxxx
B23: Revenue | ED23: =CONCATENATE("x",G23,"x",H23,"x",I23,"x",J23,"x",K23,"x",L23,"x",M23,"x",N23,"x",O23,"x",P23,"x",Q23,"x",R23,"x",S23,"x",T23,"x",U23,"x",V23,"x",W23,"x",X23,"x",Y23,"x",Z23,"x",AA23,"x",AB23,"x",AC23,"x",AD23,"x",AE23,"x",AF23,"x",AG23,"x",AH23,"x",AI23,"x",AJ23,"x",AK23,"x",AL23,"x",AM23,"x",AN23,"x",AO23,"x",AP23,"x",AQ23,"x",AR23,"x",AS23,"x",AT23,"x",AU23,"x",AV23,"x",AW23,"x",AX23,"x",AY23,"x",AZ23,"x",BA23,"x",BB23,"x",BC23,"x",BD23,"x",BE23,"x",BF23,"x",BG23,"x",BH23,"x",BI23,"x",BJ23,"x",BK23,"x",BL23,"x",BM23,"x",BN23,"x",BO23,"x",BP23,"x",BQ23,"x",BR23,"x",BS23,"x",BT23,"x",BU23,"x",BV23,"x",BW23,"x",BX23,"x",BY23,"x",BZ23,"x",CA23,"x",CB23,"x",CC23,"x",CD23,"x",CE23,"x",CF23,"x",CG23,"x",CH23,"x",CI23,"x",CJ23,"x",CK23,"x",CL23,"x",CM23,"x",CN23,"x",CO23,"x",CP23,"x",CQ23,"x",CR23,"x",CS23,"x",CT23,"x",CU23,"x",CV23,"x",CW23,"x",CX23,"x",CY23,"x",CZ23,"x",DA23,"x",DB23,"x",DC23,"x",DD23,"x",DE23,"x",DF23,"x",DG23,"x",DH23,"x",DI23,"x",DJ23,"x",DK23,"x",DL23,"x",DM23,"x",DN23,"x",DO23,"x",DP23,"x",DQ23,"x",DR23,"x",DS23,"x",DT23,"x",DU23,"x",DV23,"x",DW23,"x",DX23,"x",DY23,"x",DZ23,"x",EA23,"x",EB23,"x",EC23,"x") -> xxxxxxxxxxxxxxxxxxxxxxxxxxxxxxxxxxxxxxxxxxxxxxxxxxxxxxxxxxxxxxxxxxxxxxxxxxxxxxxxxxxxxxxxxxxxxxxxxxxxxxxxxxxxxxxxxxxxxxxxxxxxxxxx
A24: 1520 | B24: Donations and Bequests | C24: =SUMPRODUCT(SUMIF('Sch Parent Trial Balance Input'!$A:$A,'Sch Parent TB Converter'!$G24:$EC24,'Sch Parent Trial Balance Input'!C:C)) -> 0 | D24: =SUMPRODUCT(SUMIF('Sch Parent Trial Balance Input'!$A:$A,'Sch Parent TB Converter'!$G24:$EC24,'Sch Parent Trial Balance Input'!D:D)) -> 0 | E24: =SUMPRODUCT(SUMIF('Sch Parent Trial Balance Input'!$A:$A,'Sch Parent TB Converter'!$G24:$EC24,'Sch Parent Trial Balance Input'!E:E)) -> 0 | ED24: =CONCATENATE("x",G24,"x",H24,"x",I24,"x",J24,"x",K24,"x",L24,"x",M24,"x",N24,"x",O24,"x",P24,"x",Q24,"x",R24,"x",S24,"x",T24,"x",U24,"x",V24,"x",W24,"x",X24,"x",Y24,"x",Z24,"x",AA24,"x",AB24,"x",AC24,"x",AD24,"x",AE24,"x",AF24,"x",AG24,"x",AH24,"x",AI24,"x",AJ24,"x",AK24,"x",AL24,"x",AM24,"x",AN24,"x",AO24,"x",AP24,"x",AQ24,"x",AR24,"x",AS24,"x",AT24,"x",AU24,"x",AV24,"x",AW24,"x",AX24,"x",AY24,"x",AZ24,"x",BA24,"x",BB24,"x",BC24,"x",BD24,"x",BE24,"x",BF24,"x",BG24,"x",BH24,"x",BI24,"x",BJ24,"x",BK24,"x",BL24,"x",BM24,"x",BN24,"x",BO24,"x",BP24,"x",BQ24,"x",BR24,"x",BS24,"x",BT24,"x",BU24,"x",BV24,"x",BW24,"x",BX24,"x",BY24,"x",BZ24,"x",CA24,"x",CB24,"x",CC24,"x",CD24,"x",CE24,"x",CF24,"x",CG24,"x",CH24,"x",CI24,"x",CJ24,"x",CK24,"x",CL24,"x",CM24,"x",CN24,"x",CO24,"x",CP24,"x",CQ24,"x",CR24,"x",CS24,"x",CT24,"x",CU24,"x",CV24,"x",CW24,"x",CX24,"x",CY24,"x",CZ24,"x",DA24,"x",DB24,"x",DC24,"x",DD24,"x",DE24,"x",DF24,"x",DG24,"x",DH24,"x",DI24,"x",DJ24,"x",DK24,"x",DL24,"x",DM24,"x",DN24,"x",DO24,"x",DP24,"x",DQ24,"x",DR24,"x",DS24,"x",DT24,"x",DU24,"x",DV24,"x",DW24,"x",DX24,"x",DY24,"x",DZ24,"x",EA24,"x",EB24,"x",EC24,"x") -> xxxxxxxxxxxxxxxxxxxxxxxxxxxxxxxxxxxxxxxxxxxxxxxxxxxxxxxxxxxxxxxxxxxxxxxxxxxxxxxxxxxxxxxxxxxxxxxxxxxxxxxxxxxxxxxxxxxxxxxxxxxxxxxx
A25: 1530 | B25: Fundraising & Community Grants | C25: =SUMPRODUCT(SUMIF('Sch Parent Trial Balance Input'!$A:$A,'Sch Parent TB Converter'!$G25:$EC25,'Sch Parent Trial Balance Input'!C:C)) -> 0 | D25: =SUMPRODUCT(SUMIF('Sch Parent Trial Balance Input'!$A:$A,'Sch Parent TB Converter'!$G25:$EC25,'Sch Parent Trial Balance Input'!D:D)) -> 0 | E25: =SUMPRODUCT(SUMIF('Sch Parent Trial Balance Input'!$A:$A,'Sch Parent TB Converter'!$G25:$EC25,'Sch Parent Trial Balance Input'!E:E)) -> 0 | ED25: =CONCATENATE("x",G25,"x",H25,"x",I25,"x",J25,"x",K25,"x",L25,"x",M25,"x",N25,"x",O25,"x",P25,"x",Q25,"x",R25,"x",S25,"x",T25,"x",U25,"x",V25,"x",W25,"x",X25,"x",Y25,"x",Z25,"x",AA25,"x",AB25,"x",AC25,"x",AD25,"x",AE25,"x",AF25,"x",AG25,"x",AH25,"x",AI25,"x",AJ25,"x",AK25,"x",AL25,"x",AM25,"x",AN25,"x",AO25,"x",AP25,"x",AQ25,"x",AR25,"x",AS25,"x",AT25,"x",AU25,"x",AV25,"x",AW25,"x",AX25,"x",AY25,"x",AZ25,"x",BA25,"x",BB25,"x",BC25,"x",BD25,"x",BE25,"x",BF25,"x",BG25,"x",BH25,"x",BI25,"x",BJ25,"x",BK25,"x",BL25,"x",BM25,"x",BN25,"x",BO25,"x",BP25,"x",BQ25,"x",BR25,"x",BS25,"x",BT25,"x",BU25,"x",BV25,"x",BW25,"x",BX25,"x",BY25,"x",BZ25,"x",CA25,"x",CB25,"x",CC25,"x",CD25,"x",CE25,"x",CF25,"x",CG25,"x",CH25,"x",CI25,"x",CJ25,"x",CK25,"x",CL25,"x",CM25,"x",CN25,"x",CO25,"x",CP25,"x",CQ25,"x",CR25,"x",CS25,"x",CT25,"x",CU25,"x",CV25,"x",CW25,"x",CX25,"x",CY25,"x",CZ25,"x",DA25,"x",DB25,"x",DC25,"x",DD25,"x",DE25,"x",DF25,"x",DG25,"x",DH25,"x",DI25,"x",DJ25,"x",DK25,"x",DL25,"x",DM25,"x",DN25,"x",DO25,"x",DP25,"x",DQ25,"x",DR25,"x",DS25,"x",DT25,"x",DU25,"x",DV25,"x",DW25,"x",DX25,"x",DY25,"x",DZ25,"x",EA25,"x",EB25,"x",EC25,"x") -> xxxxxxxxxxxxxxxxxxxxxxxxxxxxxxxxxxxxxxxxxxxxxxxxxxxxxxxxxxxxxxxxxxxxxxxxxxxxxxxxxxxxxxxxxxxxxxxxxxxxxxxxxxxxxxxxxxxxxxxxxxxxxxxx
A26: 1570 | B26: Other Revenue | C26: =SUMPRODUCT(SUMIF('Sch Parent Trial Balance Input'!$A:$A,'Sch Parent TB Converter'!$G26:$EC26,'Sch Parent Trial Balance Input'!C:C)) -> 0 | D26: =SUMPRODUCT(SUMIF('Sch Parent Trial Balance Input'!$A:$A,'Sch Parent TB Converter'!$G26:$EC26,'Sch Parent Trial Balance Input'!D:D)) -> 0 | E26: =SUMPRODUCT(SUMIF('Sch Parent Trial Balance Input'!$A:$A,'Sch Parent TB Converter'!$G26:$EC26,'Sch Parent Trial Balance Input'!E:E)) -> 0 | ED26: =CONCATENATE("x",G26,"x",H26,"x",I26,"x",J26,"x",K26,"x",L26,"x",M26,"x",N26,"x",O26,"x",P26,"x",Q26,"x",R26,"x",S26,"x",T26,"x",U26,"x",V26,"x",W26,"x",X26,"x",Y26,"x",Z26,"x",AA26,"x",AB26,"x",AC26,"x",AD26,"x",AE26,"x",AF26,"x",AG26,"x",AH26,"x",AI26,"x",AJ26,"x",AK26,"x",AL26,"x",AM26,"x",AN26,"x",AO26,"x",AP26,"x",AQ26,"x",AR26,"x",AS26,"x",AT26,"x",AU26,"x",AV26,"x",AW26,"x",AX26,"x",AY26,"x",AZ26,"x",BA26,"x",BB26,"x",BC26,"x",BD26,"x",BE26,"x",BF26,"x",BG26,"x",BH26,"x",BI26,"x",BJ26,"x",BK26,"x",BL26,"x",BM26,"x",BN26,"x",BO26,"x",BP26,"x",BQ26,"x",BR26,"x",BS26,"x",BT26,"x",BU26,"x",BV26,"x",BW26,"x",BX26,"x",BY26,"x",BZ26,"x",CA26,"x",CB26,"x",CC26,"x",CD26,"x",CE26,"x",CF26,"x",CG26,"x",CH26,"x",CI26,"x",CJ26,"x",CK26,"x",CL26,"x",CM26,"x",CN26,"x",CO26,"x",CP26,"x",CQ26,"x",CR26,"x",CS26,"x",CT26,"x",CU26,"x",CV26,"x",CW26,"x",CX26,"x",CY26,"x",CZ26,"x",DA26,"x",DB26,"x",DC26,"x",DD26,"x",DE26,"x",DF26,"x",DG26,"x",DH26,"x",DI26,"x",DJ26,"x",DK26,"x",DL26,"x",DM26,"x",DN26,"x",DO26,"x",DP26,"x",DQ26,"x",DR26,"x",DS26,"x",DT26,"x",DU26,"x",DV26,"x",DW26,"x",DX26,"x",DY26,"x",DZ26,"x",EA26,"x",EB26,"x",EC26,"x") -> xxxxxxxxxxxxxxxxxxxxxxxxxxxxxxxxxxxxxxxxxxxxxxxxxxxxxxxxxxxxxxxxxxxxxxxxxxxxxxxxxxxxxxxxxxxxxxxxxxxxxxxxxxxxxxxxxxxxxxxxxxxxxxxx
A27: 1560 | B27: Trading | C27: {=SUMPRODUCT(SUMIF('Sch Parent Trial Balance Input'!$A:$A,'Sch Parent TB Converter'!$G27:$EC27,'Sch Parent Trial Balance Input'!C:C))} -> 0 | D27: =SUMPRODUCT(SUMIF('Sch Parent Trial Balance Input'!$A:$A,'Sch Parent TB Converter'!$G27:$EC27,'Sch Parent Trial Balance Input'!D:D)) -> 0 | E27: =SUMPRODUCT(SUMIF('Sch Parent Trial Balance Input'!$A:$A,'Sch Parent TB Converter'!$G27:$EC27,'Sch Parent Trial Balance Input'!E:E)) -> 0 | ED27: =CONCATENATE("x",G27,"x",H27,"x",I27,"x",J27,"x",K27,"x",L27,"x",M27,"x",N27,"x",O27,"x",P27,"x",Q27,"x",R27,"x",S27,"x",T27,"x",U27,"x",V27,"x",W27,"x",X27,"x",Y27,"x",Z27,"x",AA27,"x",AB27,"x",AC27,"x",AD27,"x",AE27,"x",AF27,"x",AG27,"x",AH27,"x",AI27,"x",AJ27,"x",AK27,"x",AL27,"x",AM27,"x",AN27,"x",AO27,"x",AP27,"x",AQ27,"x",AR27,"x",AS27,"x",AT27,"x",AU27,"x",AV27,"x",AW27,"x",AX27,"x",AY27,"x",AZ27,"x",BA27,"x",BB27,"x",BC27,"x",BD27,"x",BE27,"x",BF27,"x",BG27,"x",BH27,"x",BI27,"x",BJ27,"x",BK27,"x",BL27,"x",BM27,"x",BN27,"x",BO27,"x",BP27,"x",BQ27,"x",BR27,"x",BS27,"x",BT27,"x",BU27,"x",BV27,"x",BW27,"x",BX27,"x",BY27,"x",BZ27,"x",CA27,"x",CB27,"x",CC27,"x",CD27,"x",CE27,"x",CF27,"x",CG27,"x",CH27,"x",CI27,"x",CJ27,"x",CK27,"x",CL27,"x",CM27,"x",CN27,"x",CO27,"x",CP27,"x",CQ27,"x",CR27,"x",CS27,"x",CT27,"x",CU27,"x",CV27,"x",CW27,"x",CX27,"x",CY27,"x",CZ27,"x",DA27,"x",DB27,"x",DC27,"x",DD27,"x",DE27,"x",DF27,"x",DG27,"x",DH27,"x",DI27,"x",DJ27,"x",DK27,"x",DL27,"x",DM27,"x",DN27,"x",DO27,"x",DP27,"x",DQ27,"x",DR27,"x",DS27,"x",DT27,"x",DU27,"x",DV27,"x",DW27,"x",DX27,"x",DY27,"x",DZ27,"x",EA27,"x",EB27,"x",EC27,"x") -> xxxxxxxxxxxxxxxxxxxxxxxxxxxxxxxxxxxxxxxxxxxxxxxxxxxxxxxxxxxxxxxxxxxxxxxxxxxxxxxxxxxxxxxxxxxxxxxxxxxxxxxxxxxxxxxxxxxxxxxxxxxxxxxx
A28: 1510 | B28: Fees for Extra Curricular Activities | C28: =SUMPRODUCT(SUMIF('Sch Parent Trial Balance Input'!$A:$A,'Sch Parent TB Converter'!$G28:$EC28,'Sch Parent Trial Balance Input'!C:C)) -> 0 | D28: =SUMPRODUCT(SUMIF('Sch Parent Trial Balance Input'!$A:$A,'Sch Parent TB Converter'!$G28:$EC28,'Sch Parent Trial Balance Input'!D:D)) -> 0 | E28: =SUMPRODUCT(SUMIF('Sch Parent Trial Balance Input'!$A:$A,'Sch Parent TB Converter'!$G28:$EC28,'Sch Parent Trial Balance Input'!E:E)) -> 0 | ED28: =CONCATENATE("x",G28,"x",H28,"x",I28,"x",J28,"x",K28,"x",L28,"x",M28,"x",N28,"x",O28,"x",P28,"x",Q28,"x",R28,"x",S28,"x",T28,"x",U28,"x",V28,"x",W28,"x",X28,"x",Y28,"x",Z28,"x",AA28,"x",AB28,"x",AC28,"x",AD28,"x",AE28,"x",AF28,"x",AG28,"x",AH28,"x",AI28,"x",AJ28,"x",AK28,"x",AL28,"x",AM28,"x",AN28,"x",AO28,"x",AP28,"x",AQ28,"x",AR28,"x",AS28,"x",AT28,"x",AU28,"x",AV28,"x",AW28,"x",AX28,"x",AY28,"x",AZ28,"x",BA28,"x",BB28,"x",BC28,"x",BD28,"x",BE28,"x",BF28,"x",BG28,"x",BH28,"x",BI28,"x",BJ28,"x",BK28,"x",BL28,"x",BM28,"x",BN28,"x",BO28,"x",BP28,"x",BQ28,"x",BR28,"x",BS28,"x",BT28,"x",BU28,"x",BV28,"x",BW28,"x",BX28,"x",BY28,"x",BZ28,"x",CA28,"x",CB28,"x",CC28,"x",CD28,"x",CE28,"x",CF28,"x",CG28,"x",CH28,"x",CI28,"x",CJ28,"x",CK28,"x",CL28,"x",CM28,"x",CN28,"x",CO28,"x",CP28,"x",CQ28,"x",CR28,"x",CS28,"x",CT28,"x",CU28,"x",CV28,"x",CW28,"x",CX28,"x",CY28,"x",CZ28,"x",DA28,"x",DB28,"x",DC28,"x",DD28,"x",DE28,"x",DF28,"x",DG28,"x",DH28,"x",DI28,"x",DJ28,"x",DK28,"x",DL28,"x",DM28,"x",DN28,"x",DO28,"x",DP28,"x",DQ28,"x",DR28,"x",DS28,"x",DT28,"x",DU28,"x",DV28,"x",DW28,"x",DX28,"x",DY28,"x",DZ28,"x",EA28,"x",EB28,"x",EC28,"x") -> xxxxxxxxxxxxxxxxxxxxxxxxxxxxxxxxxxxxxxxxxxxxxxxxxxxxxxxxxxxxxxxxxxxxxxxxxxxxxxxxxxxxxxxxxxxxxxxxxxxxxxxxxxxxxxxxxxxxxxxxxxxxxxxx
A29: 1473 | B29: International Student Fees | C29: =SUMPRODUCT(SUMIF('Sch Parent Trial Balance Input'!$A:$A,'Sch Parent TB Converter'!$G29:$EC29,'Sch Parent Trial Balance Input'!C:C)) -> 0 | D29: =SUMPRODUCT(SUMIF('Sch Parent Trial Balance Input'!$A:$A,'Sch Parent TB Converter'!$G29:$EC29,'Sch Parent Trial Balance Input'!D:D)) -> 0 | E29: =SUMPRODUCT(SUMIF('Sch Parent Trial Balance Input'!$A:$A,'Sch Parent TB Converter'!$G29:$EC29,'Sch Parent Trial Balance Input'!E:E)) -> 0 | ED29: =CONCATENATE("x",G29,"x",H29,"x",I29,"x",J29,"x",K29,"x",L29,"x",M29,"x",N29,"x",O29,"x",P29,"x",Q29,"x",R29,"x",S29,"x",T29,"x",U29,"x",V29,"x",W29,"x",X29,"x",Y29,"x",Z29,"x",AA29,"x",AB29,"x",AC29,"x",AD29,"x",AE29,"x",AF29,"x",AG29,"x",AH29,"x",AI29,"x",AJ29,"x",AK29,"x",AL29,"x",AM29,"x",AN29,"x",AO29,"x",AP29,"x",AQ29,"x",AR29,"x",AS29,"x",AT29,"x",AU29,"x",AV29,"x",AW29,"x",AX29,"x",AY29,"x",AZ29,"x",BA29,"x",BB29,"x",BC29,"x",BD29,"x",BE29,"x",BF29,"x",BG29,"x",BH29,"x",BI29,"x",BJ29,"x",BK29,"x",BL29,"x",BM29,"x",BN29,"x",BO29,"x",BP29,"x",BQ29,"x",BR29,"x",BS29,"x",BT29,"x",BU29,"x",BV29,"x",BW29,"x",BX29,"x",BY29,"x",BZ29,"x",CA29,"x",CB29,"x",CC29,"x",CD29,"x",CE29,"x",CF29,"x",CG29,"x",CH29,"x",CI29,"x",CJ29,"x",CK29,"x",CL29,"x",CM29,"x",CN29,"x",CO29,"x",CP29,"x",CQ29,"x",CR29,"x",CS29,"x",CT29,"x",CU29,"x",CV29,"x",CW29,"x",CX29,"x",CY29,"x",CZ29,"x",DA29,"x",DB29,"x",DC29,"x",DD29,"x",DE29,"x",DF29,"x",DG29,"x",DH29,"x",DI29,"x",DJ29,"x",DK29,"x",DL29,"x",DM29,"x",DN29,"x",DO29,"x",DP29,"x",DQ29,"x",DR29,"x",DS29,"x",DT29,"x",DU29,"x",DV29,"x",DW29,"x",DX29,"x",DY29,"x",DZ29,"x",EA29,"x",EB29,"x",EC29,"x") -> xxxxxxxxxxxxxxxxxxxxxxxxxxxxxxxxxxxxxxxxxxxxxxxxxxxxxxxxxxxxxxxxxxxxxxxxxxxxxxxxxxxxxxxxxxxxxxxxxxxxxxxxxxxxxxxxxxxxxxxxxxxxxxxx
ED30: =CONCATENATE("x",G30,"x",H30,"x",I30,"x",J30,"x",K30,"x",L30,"x",M30,"x",N30,"x",O30,"x",P30,"x",Q30,"x",R30,"x",S30,"x",T30,"x",U30,"x",V30,"x",W30,"x",X30,"x",Y30,"x",Z30,"x",AA30,"x",AB30,"x",AC30,"x",AD30,"x",AE30,"x",AF30,"x",AG30,"x",AH30,"x",AI30,"x",AJ30,"x",AK30,"x",AL30,"x",AM30,"x",AN30,"x",AO30,"x",AP30,"x",AQ30,"x",AR30,"x",AS30,"x",AT30,"x",AU30,"x",AV30,"x",AW30,"x",AX30,"x",AY30,"x",AZ30,"x",BA30,"x",BB30,"x",BC30,"x",BD30,"x",BE30,"x",BF30,"x",BG30,"x",BH30,"x",BI30,"x",BJ30,"x",BK30,"x",BL30,"x",BM30,"x",BN30,"x",BO30,"x",BP30,"x",BQ30,"x",BR30,"x",BS30,"x",BT30,"x",BU30,"x",BV30,"x",BW30,"x",BX30,"x",BY30,"x",BZ30,"x",CA30,"x",CB30,"x",CC30,"x",CD30,"x",CE30,"x",CF30,"x",CG30,"x",CH30,"x",CI30,"x",CJ30,"x",CK30,"x",CL30,"x",CM30,"x",CN30,"x",CO30,"x",CP30,"x",CQ30,"x",CR30,"x",CS30,"x",CT30,"x",CU30,"x",CV30,"x",CW30,"x",CX30,"x",CY30,"x",CZ30,"x",DA30,"x",DB30,"x",DC30,"x",DD30,"x",DE30,"x",DF30,"x",DG30,"x",DH30,"x",DI30,"x",DJ30,"x",DK30,"x",DL30,"x",DM30,"x",DN30,"x",DO30,"x",DP30,"x",DQ30,"x",DR30,"x",DS30,"x",DT30,"x",DU30,"x",DV30,"x",DW30,"x",DX30,"x",DY30,"x",DZ30,"x",EA30,"x",EB30,"x",EC30,"x") -> xxxxxxxxxxxxxxxxxxxxxxxxxxxxxxxxxxxxxxxxxxxxxxxxxxxxxxxxxxxxxxxxxxxxxxxxxxxxxxxxxxxxxxxxxxxxxxxxxxxxxxxxxxxxxxxxxxxxxxxxxxxxxxxx
B31: Expenses | ED31: =CONCATENATE("x",G31,"x",H31,"x",I31,"x",J31,"x",K31,"x",L31,"x",M31,"x",N31,"x",O31,"x",P31,"x",Q31,"x",R31,"x",S31,"x",T31,"x",U31,"x",V31,"x",W31,"x",X31,"x",Y31,"x",Z31,"x",AA31,"x",AB31,"x",AC31,"x",AD31,"x",AE31,"x",AF31,"x",AG31,"x",AH31,"x",AI31,"x",AJ31,"x",AK31,"x",AL31,"x",AM31,"x",AN31,"x",AO31,"x",AP31,"x",AQ31,"x",AR31,"x",AS31,"x",AT31,"x",AU31,"x",AV31,"x",AW31,"x",AX31,"x",AY31,"x",AZ31,"x",BA31,"x",BB31,"x",BC31,"x",BD31,"x",BE31,"x",BF31,"x",BG31,"x",BH31,"x",BI31,"x",BJ31,"x",BK31,"x",BL31,"x",BM31,"x",BN31,"x",BO31,"x",BP31,"x",BQ31,"x",BR31,"x",BS31,"x",BT31,"x",BU31,"x",BV31,"x",BW31,"x",BX31,"x",BY31,"x",BZ31,"x",CA31,"x",CB31,"x",CC31,"x",CD31,"x",CE31,"x",CF31,"x",CG31,"x",CH31,"x",CI31,"x",CJ31,"x",CK31,"x",CL31,"x",CM31,"x",CN31,"x",CO31,"x",CP31,"x",CQ31,"x",CR31,"x",CS31,"x",CT31,"x",CU31,"x",CV31,"x",CW31,"x",CX31,"x",CY31,"x",CZ31,"x",DA31,"x",DB31,"x",DC31,"x",DD31,"x",DE31,"x",DF31,"x",DG31,"x",DH31,"x",DI31,"x",DJ31,"x",DK31,"x",DL31,"x",DM31,"x",DN31,"x",DO31,"x",DP31,"x",DQ31,"x",DR31,"x",DS31,"x",DT31,"x",DU31,"x",DV31,"x",DW31,"x",DX31,"x",DY31,"x",DZ31,"x",EA31,"x",EB31,"x",EC31,"x") -> xxxxxxxxxxxxxxxxxxxxxxxxxxxxxxxxxxxxxxxxxxxxxxxxxxxxxxxxxxxxxxxxxxxxxxxxxxxxxxxxxxxxxxxxxxxxxxxxxxxxxxxxxxxxxxxxxxxxxxxxxxxxxxxx
A32: 2410 | B32: Extra Curricular Activities Costs | C32: {=SUMPRODUCT(SUMIF('Sch Parent Trial Balance Input'!$A:$A,'Sch Parent TB Converter'!$G32:$EC32,'Sch Parent Trial Balance Input'!C:C))} -> 0 | D32: {=SUMPRODUCT(SUMIF('Sch Parent Trial Balance Input'!$A:$A,'Sch Parent TB Converter'!$G32:$EC32,'Sch Parent Trial Balance Input'!D:D))} -> 0 | E32: {=SUMPRODUCT(SUMIF('Sch Parent Trial Balance Input'!$A:$A,'Sch Parent TB Converter'!$G32:$EC32,'Sch Parent Trial Balance Input'!E:E))} -> 0 | ED32: =CONCATENATE("x",G32,"x",H32,"x",I32,"x",J32,"x",K32,"x",L32,"x",M32,"x",N32,"x",O32,"x",P32,"x",Q32,"x",R32,"x",S32,"x",T32,"x",U32,"x",V32,"x",W32,"x",X32,"x",Y32,"x",Z32,"x",AA32,"x",AB32,"x",AC32,"x",AD32,"x",AE32,"x",AF32,"x",AG32,"x",AH32,"x",AI32,"x",AJ32,"x",AK32,"x",AL32,"x",AM32,"x",AN32,"x",AO32,"x",AP32,"x",AQ32,"x",AR32,"x",AS32,"x",AT32,"x",AU32,"x",AV32,"x",AW32,"x",AX32,"x",AY32,"x",AZ32,"x",BA32,"x",BB32,"x",BC32,"x",BD32,"x",BE32,"x",BF32,"x",BG32,"x",BH32,"x",BI32,"x",BJ32,"x",BK32,"x",BL32,"x",BM32,"x",BN32,"x",BO32,"x",BP32,"x",BQ32,"x",BR32,"x",BS32,"x",BT32,"x",BU32,"x",BV32,"x",BW32,"x",BX32,"x",BY32,"x",BZ32,"x",CA32,"x",CB32,"x",CC32,"x",CD32,"x",CE32,"x",CF32,"x",CG32,"x",CH32,"x",CI32,"x",CJ32,"x",CK32,"x",CL32,"x",CM32,"x",CN32,"x",CO32,"x",CP32,"x",CQ32,"x",CR32,"x",CS32,"x",CT32,"x",CU32,"x",CV32,"x",CW32,"x",CX32,"x",CY32,"x",CZ32,"x",DA32,"x",DB32,"x",DC32,"x",DD32,"x",DE32,"x",DF32,"x",DG32,"x",DH32,"x",DI32,"x",DJ32,"x",DK32,"x",DL32,"x",DM32,"x",DN32,"x",DO32,"x",DP32,"x",DQ32,"x",DR32,"x",DS32,"x",DT32,"x",DU32,"x",DV32,"x",DW32,"x",DX32,"x",DY32,"x",DZ32,"x",EA32,"x",EB32,"x",EC32,"x") -> xxxxxxxxxxxxxxxxxxxxxxxxxxxxxxxxxxxxxxxxxxxxxxxxxxxxxxxxxxxxxxxxxxxxxxxxxxxxxxxxxxxxxxxxxxxxxxxxxxxxxxxxxxxxxxxxxxxxxxxxxxxxxxxx
A33: 2440 | B33: Trading | C33: =SUMPRODUCT(SUMIF('Sch Parent Trial Balance Input'!$A:$A,'Sch Parent TB Converter'!$G33:$EC33,'Sch Parent Trial Balance Input'!C:C)) -> 0 | D33: =SUMPRODUCT(SUMIF('Sch Parent Trial Balance Input'!$A:$A,'Sch Parent TB Converter'!$G33:$EC33,'Sch Parent Trial Balance Input'!D:D)) -> 0 | E33: =SUMPRODUCT(SUMIF('Sch Parent Trial Balance Input'!$A:$A,'Sch Parent TB Converter'!$G33:$EC33,'Sch Parent Trial Balance Input'!E:E)) -> 0 | ED33: =CONCATENATE("x",G33,"x",H33,"x",I33,"x",J33,"x",K33,"x",L33,"x",M33,"x",N33,"x",O33,"x",P33,"x",Q33,"x",R33,"x",S33,"x",T33,"x",U33,"x",V33,"x",W33,"x",X33,"x",Y33,"x",Z33,"x",AA33,"x",AB33,"x",AC33,"x",AD33,"x",AE33,"x",AF33,"x",AG33,"x",AH33,"x",AI33,"x",AJ33,"x",AK33,"x",AL33,"x",AM33,"x",AN33,"x",AO33,"x",AP33,"x",AQ33,"x",AR33,"x",AS33,"x",AT33,"x",AU33,"x",AV33,"x",AW33,"x",AX33,"x",AY33,"x",AZ33,"x",BA33,"x",BB33,"x",BC33,"x",BD33,"x",BE33,"x",BF33,"x",BG33,"x",BH33,"x",BI33,"x",BJ33,"x",BK33,"x",BL33,"x",BM33,"x",BN33,"x",BO33,"x",BP33,"x",BQ33,"x",BR33,"x",BS33,"x",BT33,"x",BU33,"x",BV33,"x",BW33,"x",BX33,"x",BY33,"x",BZ33,"x",CA33,"x",CB33,"x",CC33,"x",CD33,"x",CE33,"x",CF33,"x",CG33,"x",CH33,"x",CI33,"x",CJ33,"x",CK33,"x",CL33,"x",CM33,"x",CN33,"x",CO33,"x",CP33,"x",CQ33,"x",CR33,"x",CS33,"x",CT33,"x",CU33,"x",CV33,"x",CW33,"x",CX33,"x",CY33,"x",CZ33,"x",DA33,"x",DB33,"x",DC33,"x",DD33,"x",DE33,"x",DF33,"x",DG33,"x",DH33,"x",DI33,"x",DJ33,"x",DK33,"x",DL33,"x",DM33,"x",DN33,"x",DO33,"x",DP33,"x",DQ33,"x",DR33,"x",DS33,"x",DT33,"x",DU33,"x",DV33,"x",DW33,"x",DX33,"x",DY33,"x",DZ33,"x",EA33,"x",EB33,"x",EC33,"x") -> xxxxxxxxxxxxxxxxxxxxxxxxxxxxxxxxxxxxxxxxxxxxxxxxxxxxxxxxxxxxxxxxxxxxxxxxxxxxxxxxxxxxxxxxxxxxxxxxxxxxxxxxxxxxxxxxxxxxxxxxxxxxxxxx
A34: 2420 | B34: Fundraising and Community Grant Costs | C34: =SUMPRODUCT(SUMIF('Sch Parent Trial Balance Input'!$A:$A,'Sch Parent TB Converter'!$G34:$EC34,'Sch Parent Trial Balance Input'!C:C)) -> 0 | D34: =SUMPRODUCT(SUMIF('Sch Parent Trial Balance Input'!$A:$A,'Sch Parent TB Converter'!$G34:$EC34,'Sch Parent Trial Balance Input'!D:D)) -> 0 | E34: =SUMPRODUCT(SUMIF('Sch Parent Trial Balance Input'!$A:$A,'Sch Parent TB Converter'!$G34:$EC34,'Sch Parent Trial Balance Input'!E:E)) -> 0 | ED34: =CONCATENATE("x",G34,"x",H34,"x",I34,"x",J34,"x",K34,"x",L34,"x",M34,"x",N34,"x",O34,"x",P34,"x",Q34,"x",R34,"x",S34,"x",T34,"x",U34,"x",V34,"x",W34,"x",X34,"x",Y34,"x",Z34,"x",AA34,"x",AB34,"x",AC34,"x",AD34,"x",AE34,"x",AF34,"x",AG34,"x",AH34,"x",AI34,"x",AJ34,"x",AK34,"x",AL34,"x",AM34,"x",AN34,"x",AO34,"x",AP34,"x",AQ34,"x",AR34,"x",AS34,"x",AT34,"x",AU34,"x",AV34,"x",AW34,"x",AX34,"x",AY34,"x",AZ34,"x",BA34,"x",BB34,"x",BC34,"x",BD34,"x",BE34,"x",BF34,"x",BG34,"x",BH34,"x",BI34,"x",BJ34,"x",BK34,"x",BL34,"x",BM34,"x",BN34,"x",BO34,"x",BP34,"x",BQ34,"x",BR34,"x",BS34,"x",BT34,"x",BU34,"x",BV34,"x",BW34,"x",BX34,"x",BY34,"x",BZ34,"x",CA34,"x",CB34,"x",CC34,"x",CD34,"x",CE34,"x",CF34,"x",CG34,"x",CH34,"x",CI34,"x",CJ34,"x",CK34,"x",CL34,"x",CM34,"x",CN34,"x",CO34,"x",CP34,"x",CQ34,"x",CR34,"x",CS34,"x",CT34,"x",CU34,"x",CV34,"x",CW34,"x",CX34,"x",CY34,"x",CZ34,"x",DA34,"x",DB34,"x",DC34,"x",DD34,"x",DE34,"x",DF34,"x",DG34,"x",DH34,"x",DI34,"x",DJ34,"x",DK34,"x",DL34,"x",DM34,"x",DN34,"x",DO34,"x",DP34,"x",DQ34,"x",DR34,"x",DS34,"x",DT34,"x",DU34,"x",DV34,"x",DW34,"x",DX34,"x",DY34,"x",DZ34,"x",EA34,"x",EB34,"x",EC34,"x") -> xxxxxxxxxxxxxxxxxxxxxxxxxxxxxxxxxxxxxxxxxxxxxxxxxxxxxxxxxxxxxxxxxxxxxxxxxxxxxxxxxxxxxxxxxxxxxxxxxxxxxxxxxxxxxxxxxxxxxxxxxxxxxxxx
A35: 2430 | B35: Other Locally Raised Funds Expenditure | C35: =SUMPRODUCT(SUMIF('Sch Parent Trial Balance Input'!$A:$A,'Sch Parent TB Converter'!$G35:$EC35,'Sch Parent Trial Balance Input'!C:C)) -> 0 | D35: =SUMPRODUCT(SUMIF('Sch Parent Trial Balance Input'!$A:$A,'Sch Parent TB Converter'!$G35:$EC35,'Sch Parent Trial Balance Input'!D:D)) -> 0 | E35: =SUMPRODUCT(SUMIF('Sch Parent Trial Balance Input'!$A:$A,'Sch Parent TB Converter'!$G35:$EC35,'Sch Parent Trial Balance Input'!E:E)) -> 0 | ED35: =CONCATENATE("x",G35,"x",H35,"x",I35,"x",J35,"x",K35,"x",L35,"x",M35,"x",N35,"x",O35,"x",P35,"x",Q35,"x",R35,"x",S35,"x",T35,"x",U35,"x",V35,"x",W35,"x",X35,"x",Y35,"x",Z35,"x",AA35,"x",AB35,"x",AC35,"x",AD35,"x",AE35,"x",AF35,"x",AG35,"x",AH35,"x",AI35,"x",AJ35,"x",AK35,"x",AL35,"x",AM35,"x",AN35,"x",AO35,"x",AP35,"x",AQ35,"x",AR35,"x",AS35,"x",AT35,"x",AU35,"x",AV35,"x",AW35,"x",AX35,"x",AY35,"x",AZ35,"x",BA35,"x",BB35,"x",BC35,"x",BD35,"x",BE35,"x",BF35,"x",BG35,"x",BH35,"x",BI35,"x",BJ35,"x",BK35,"x",BL35,"x",BM35,"x",BN35,"x",BO35,"x",BP35,"x",BQ35,"x",BR35,"x",BS35,"x",BT35,"x",BU35,"x",BV35,"x",BW35,"x",BX35,"x",BY35,"x",BZ35,"x",CA35,"x",CB35,"x",CC35,"x",CD35,"x",CE35,"x",CF35,"x",CG35,"x",CH35,"x",CI35,"x",CJ35,"x",CK35,"x",CL35,"x",CM35,"x",CN35,"x",CO35,"x",CP35,"x",CQ35,"x",CR35,"x",CS35,"x",CT35,"x",CU35,"x",CV35,"x",CW35,"x",CX35,"x",CY35,"x",CZ35,"x",DA35,"x",DB35,"x",DC35,"x",DD35,"x",DE35,"x",DF35,"x",DG35,"x",DH35,"x",DI35,"x",DJ35,"x",DK35,"x",DL35,"x",DM35,"x",DN35,"x",DO35,"x",DP35,"x",DQ35,"x",DR35,"x",DS35,"x",DT35,"x",DU35,"x",DV35,"x",DW35,"x",DX35,"x",DY35,"x",DZ35,"x",EA35,"x",EB35,"x",EC35,"x") -> xxxxxxxxxxxxxxxxxxxxxxxxxxxxxxxxxxxxxxxxxxxxxxxxxxxxxxxxxxxxxxxxxxxxxxxxxxxxxxxxxxxxxxxxxxxxxxxxxxxxxxxxxxxxxxxxxxxxxxxxxxxxxxxx
A36: 2060 | B36: International Student - Employee Benefits - Salaries | C36: =SUMPRODUCT(SUMIF('Sch Parent Trial Balance Input'!$A:$A,'Sch Parent TB Converter'!$G36:$EC36,'Sch Parent Trial Balance Input'!C:C)) -> 0 | D36: =SUMPRODUCT(SUMIF('Sch Parent Trial Balance Input'!$A:$A,'Sch Parent TB Converter'!$G36:$EC36,'Sch Parent Trial Balance Input'!D:D)) -> 0 | E36: =SUMPRODUCT(SUMIF('Sch Parent Trial Balance Input'!$A:$A,'Sch Parent TB Converter'!$G36:$EC36,'Sch Parent Trial Balance Input'!E:E)) -> 0 | ED36: =CONCATENATE("x",G36,"x",H36,"x",I36,"x",J36,"x",K36,"x",L36,"x",M36,"x",N36,"x",O36,"x",P36,"x",Q36,"x",R36,"x",S36,"x",T36,"x",U36,"x",V36,"x",W36,"x",X36,"x",Y36,"x",Z36,"x",AA36,"x",AB36,"x",AC36,"x",AD36,"x",AE36,"x",AF36,"x",AG36,"x",AH36,"x",AI36,"x",AJ36,"x",AK36,"x",AL36,"x",AM36,"x",AN36,"x",AO36,"x",AP36,"x",AQ36,"x",AR36,"x",AS36,"x",AT36,"x",AU36,"x",AV36,"x",AW36,"x",AX36,"x",AY36,"x",AZ36,"x",BA36,"x",BB36,"x",BC36,"x",BD36,"x",BE36,"x",BF36,"x",BG36,"x",BH36,"x",BI36,"x",BJ36,"x",BK36,"x",BL36,"x",BM36,"x",BN36,"x",BO36,"x",BP36,"x",BQ36,"x",BR36,"x",BS36,"x",BT36,"x",BU36,"x",BV36,"x",BW36,"x",BX36,"x",BY36,"x",BZ36,"x",CA36,"x",CB36,"x",CC36,"x",CD36,"x",CE36,"x",CF36,"x",CG36,"x",CH36,"x",CI36,"x",CJ36,"x",CK36,"x",CL36,"x",CM36,"x",CN36,"x",CO36,"x",CP36,"x",CQ36,"x",CR36,"x",CS36,"x",CT36,"x",CU36,"x",CV36,"x",CW36,"x",CX36,"x",CY36,"x",CZ36,"x",DA36,"x",DB36,"x",DC36,"x",DD36,"x",DE36,"x",DF36,"x",DG36,"x",DH36,"x",DI36,"x",DJ36,"x",DK36,"x",DL36,"x",DM36,"x",DN36,"x",DO36,"x",DP36,"x",DQ36,"x",DR36,"x",DS36,"x",DT36,"x",DU36,"x",DV36,"x",DW36,"x",DX36,"x",DY36,"x",DZ36,"x",EA36,"x",EB36,"x",EC36,"x") -> xxxxxxxxxxxxxxxxxxxxxxxxxxxxxxxxxxxxxxxxxxxxxxxxxxxxxxxxxxxxxxxxxxxxxxxxxxxxxxxxxxxxxxxxxxxxxxxxxxxxxxxxxxxxxxxxxxxxxxxxxxxxxxxx
A37: 2062 | B37: International Student - Other Expenses | C37: =SUMPRODUCT(SUMIF('Sch Parent Trial Balance Input'!$A:$A,'Sch Parent TB Converter'!$G37:$EC37,'Sch Parent Trial Balance Input'!C:C)) -> 0 | D37: =SUMPRODUCT(SUMIF('Sch Parent Trial Balance Input'!$A:$A,'Sch Parent TB Converter'!$G37:$EC37,'Sch Parent Trial Balance Input'!D:D)) -> 0 | E37: =SUMPRODUCT(SUMIF('Sch Parent Trial Balance Input'!$A:$A,'Sch Parent TB Converter'!$G37:$EC37,'Sch Parent Trial Balance Input'!E:E)) -> 0 | ED37: =CONCATENATE("x",G37,"x",H37,"x",I37,"x",J37,"x",K37,"x",L37,"x",M37,"x",N37,"x",O37,"x",P37,"x",Q37,"x",R37,"x",S37,"x",T37,"x",U37,"x",V37,"x",W37,"x",X37,"x",Y37,"x",Z37,"x",AA37,"x",AB37,"x",AC37,"x",AD37,"x",AE37,"x",AF37,"x",AG37,"x",AH37,"x",AI37,"x",AJ37,"x",AK37,"x",AL37,"x",AM37,"x",AN37,"x",AO37,"x",AP37,"x",AQ37,"x",AR37,"x",AS37,"x",AT37,"x",AU37,"x",AV37,"x",AW37,"x",AX37,"x",AY37,"x",AZ37,"x",BA37,"x",BB37,"x",BC37,"x",BD37,"x",BE37,"x",BF37,"x",BG37,"x",BH37,"x",BI37,"x",BJ37,"x",BK37,"x",BL37,"x",BM37,"x",BN37,"x",BO37,"x",BP37,"x",BQ37,"x",BR37,"x",BS37,"x",BT37,"x",BU37,"x",BV37,"x",BW37,"x",BX37,"x",BY37,"x",BZ37,"x",CA37,"x",CB37,"x",CC37,"x",CD37,"x",CE37,"x",CF37,"x",CG37,"x",CH37,"x",CI37,"x",CJ37,"x",CK37,"x",CL37,"x",CM37,"x",CN37,"x",CO37,"x",CP37,"x",CQ37,"x",CR37,"x",CS37,"x",CT37,"x",CU37,"x",CV37,"x",CW37,"x",CX37,"x",CY37,"x",CZ37,"x",DA37,"x",DB37,"x",DC37,"x",DD37,"x",DE37,"x",DF37,"x",DG37,"x",DH37,"x",DI37,"x",DJ37,"x",DK37,"x",DL37,"x",DM37,"x",DN37,"x",DO37,"x",DP37,"x",DQ37,"x",DR37,"x",DS37,"x",DT37,"x",DU37,"x",DV37,"x",DW37,"x",DX37,"x",DY37,"x",DZ37,"x",EA37,"x",EB37,"x",EC37,"x") -> xxxxxxxxxxxxxxxxxxxxxxxxxxxxxxxxxxxxxxxxxxxxxxxxxxxxxxxxxxxxxxxxxxxxxxxxxxxxxxxxxxxxxxxxxxxxxxxxxxxxxxxxxxxxxxxxxxxxxxxxxxxxxxxx
